BEGIN:VCALENDAR
VERSION:2.0
PRODID:-//wp-events-plugin.com//7.2.3.1//EN
BEGIN:VEVENT
UID:575@tangodeseos.de
DTSTART:20260330T210000Z
DTEND:20260330T220000Z
DTSTAMP:20260103T203731Z
URL:https://www.tangodeseos.de/events/fortgeschrittene-mit-marianna-daniel
 -3-2026-01-12-2026-01-19-2026-01-26-2026-02-02-2026-02-09-2026-02-16-2026-
 02-23-2026-03-02-2026-03-09-2026-03-16-2026-03-23-2026-03-30/
SUMMARY:Fortgeschrittene mit Marianna & Daniel
DESCRIPTION:Fortlaufender Kurs\, Einstieg jederzeit möglich!\n\nInfos &amp
 \; Anmeldung unter: https://blancoynegrotango.de/heidelberg/\n\n&nbsp\;
ATTACH;FMTTYPE=image/jpeg:https://www.tangodeseos.de/wp-content/uploads/20
 26/01/Daniel-und-Marainna-Herbst-4_5.jpg
CATEGORIES:Kurs
LOCATION:Hermann-Maas-Haus (ehem. Schmitthennerhaus)\, Heiliggeiststraße 1
 7\, Heidelberg\,  69117\, Deutschland
X-APPLE-STRUCTURED-LOCATION;VALUE=URI;X-ADDRESS=Heiliggeiststraße 17\, Hei
 delberg\,  69117\, Deutschland;X-APPLE-RADIUS=100;X-TITLE=Hermann-Maas-Hau
 s (ehem. Schmitthennerhaus):geo:0,0
END:VEVENT
END:VCALENDAR