BEGIN:VCALENDAR
VERSION:2.0
PRODID:-//wp-events-plugin.com//7.2.3.1//EN
BEGIN:VEVENT
UID:473@tangodeseos.de
DTSTART:20260723T203000Z
DTEND:20260723T235900Z
DTSTAMP:20251020T203452Z
URL:https://www.tangodeseos.de/events/milonga-in-der-chapel-6/
SUMMARY:MILONGA in der Chapel
DESCRIPTION:Infos folgen...
CATEGORIES:Milonga
LOCATION:CHAPEL Raum für Stadtkultur\, Rheinstr. Ecke Römerstr. 69126 Hei
 delberg-Südstadt\, Heidelberg\, 69126\, Deutschland
X-APPLE-STRUCTURED-LOCATION;VALUE=URI;X-ADDRESS=Rheinstr. Ecke Römerstr. 6
 9126 Heidelberg-Südstadt\, Heidelberg\, 69126\, Deutschland;X-APPLE-RADIU
 S=100;X-TITLE=CHAPEL Raum für Stadtkultur:geo:0,0
END:VEVENT
END:VCALENDAR