BEGIN:VCALENDAR
VERSION:2.0
PRODID:-//wp-events-plugin.com//7.2.3.1//EN
BEGIN:VEVENT
UID:772@tangodeseos.de
DTSTART;TZID=Europe/Berlin:20260421T113000
DTEND;TZID=Europe/Berlin:20260421T124500
DTSTAMP:20260330T221528Z
URL:https://www.tangodeseos.de/events/parkinson-tangokurs-mit-ina-miriam-2
 -2026-04-21/
SUMMARY:Parkinson Tangokurs mit Ina & Miriam
DESCRIPTION:Tango hat nachweislich positive Auswirkungen auf die Symptome v
 on Parkinson und kann helfen\, Bewegungsfähigkeiten wie Gang und Gleichge
 wicht zu verbessern\, Koordination zu stärken und die Flexibilität zu st
 eigern.\nEs macht Freude zu tanzen\, gemeinsam neue Bewegungsabläufe zu e
 rlernen und sich mit Gleichgesinnten zu verbinden.\nInsgesamt ist Tango ei
 ne wertvolle Option für Menschen mit Parkinson\, die die Lebensqualität 
 verbessern und Krankheitssymptome lindern kann.\n\nDie integrative Tangogr
 uppe geht weiter am Dienstag\, den 13. Januar 2026\nAnmeldung als Paar erw
 ünscht\, aber nicht notwendig.\n\nWann:\n--------------------------------
 -----------------------------\n\n\nDienstags 11.30 – 12.45h: Mittelstufe
 \n-------------------------------------------------------------\n\n\n\nWo:
  Chapel – Raum für Stadtkultur e.V. Rheinstr. Ecke Römerstr. 69126 Hei
 delberg-Südstadt.\nParkplätze sind direkt hinter der Chapel.\n\nLeitung:
  Ina Bratherig (Tangolehrerin\, Tanz- und Bewegunsgtherapeutin\, Tanzpäda
 gogin)\nAssistenz: Miriam Feix (Tanztherapeutin i.A.)\nwww.tangodeseos.de\
 nDie Gruppe ist offen für Menschen mit anderen neurologischen Einschränk
 ungen.\n\nHIER ANMELDEN\nKosten:\nSchnupperstunde: 20\,- /10\,- erm. Euro 
 pro Person\nKurs: 63\,- / 42\,- € erm. pro Monat\, inklusive Eintritt zu
 r monatlichen Milonga.\n\n\n\nWir freuen uns auf Euch!\nliebe Grüße\nIna
  &amp\; Miriam\n\n
ATTACH;FMTTYPE=image/jpeg:https://www.tangodeseos.de/wp-content/uploads/20
 25/12/Postkarte-Parkinson-2026.jpg
CATEGORIES:Parkinson
LOCATION:CHAPEL Raum für Stadtkultur\, Rheinstr. Ecke Römerstr. 69126 Hei
 delberg-Südstadt\, Heidelberg\, 69126\, Deutschland
X-APPLE-STRUCTURED-LOCATION;VALUE=URI;X-ADDRESS=Rheinstr. Ecke Römerstr. 6
 9126 Heidelberg-Südstadt\, Heidelberg\, 69126\, Deutschland;X-APPLE-RADIU
 S=100;X-TITLE=CHAPEL Raum für Stadtkultur:geo:0,0
END:VEVENT
BEGIN:VTIMEZONE
TZID:Europe/Berlin
X-LIC-LOCATION:Europe/Berlin
BEGIN:DAYLIGHT
DTSTART:20260329T030000
TZOFFSETFROM:+0100
TZOFFSETTO:+0200
TZNAME:CEST
END:DAYLIGHT
END:VTIMEZONE
END:VCALENDAR