BEGIN:VCALENDAR
VERSION:2.0
PRODID:-//wp-events-plugin.com//7.2.3.1//EN
BEGIN:VEVENT
UID:738@tangodeseos.de
DTSTART;TZID=Europe/Berlin:20260402T190000
DTEND;TZID=Europe/Berlin:20260402T213000
DTSTAMP:20260322T182842Z
URL:https://www.tangodeseos.de/events/practica-2-2026-04-02/
SUMMARY:Práctica
DESCRIPTION:Die Tangopractica ist ein selbstorganisiertes und selbstverwalt
 etes Projekt von jungen Tänzerinnen und Tänzern in Heidelberg.\n\nWir m
 öchten einen Raum bieten\, in dem alle in entspannter Atmosphäre Tango 
 üben und tanzen können. Egal ob jung oder alt\, fortgeschritten oder gan
 z neu dabei\, alle sind herzlich bei der Practica willkommen.\n\n\n\nWer k
 ann an der Practica teilnehmen?\nJede*r kann an der Practica teilnehmen! D
 abei ist es völlig unerheblich\, ob ihr schon jahrelang Tango tanzt und a
 n komplexen Bewegungsabläufen arbeiten wollt\, oder gerade erst neu dabei
  seid und versucht eure ersten Schritte zu sortieren.\n\nEbenso spielt auc
 h euer Alter keine Rolle. Ob Schüler*in\, Student*in\, Berufstätige*r od
 er Rentner*in — alle sind willkommen. Der Tango versteht sich auch als 
 Ort für intergenerationellen Austausch.\n\nDu findest uns im Palais Risch
 er\, mitten im Herzen der Heidelberger Altstadt. Die Adresse lautet: Unter
 e Straße 11\, 69117 Heidelberg.\n\nDie Practica findet aktuell donnerstag
 s von 19:00 bis 21:30 Uhr statt. Terminausfälle oder längere Pausen werd
 en separat angekündigt.\n\n&nbsp\;\n\n\n\nAlle weiteren Informationen unt
 er: https://tangopractica-hd.de/\n\n
ATTACH;FMTTYPE=image/jpeg:https://www.tangodeseos.de/wp-content/uploads/20
 25/06/Header.jpg
CATEGORIES:Practica
LOCATION:Palais Rischer\, Untere Straße 11\, Heidelberg\, 69117\, Deutschl
 and
X-APPLE-STRUCTURED-LOCATION;VALUE=URI;X-ADDRESS=Untere Straße 11\, Heidelb
 erg\, 69117\, Deutschland;X-APPLE-RADIUS=100;X-TITLE=Palais Rischer:geo:0,
 0
END:VEVENT
BEGIN:VTIMEZONE
TZID:Europe/Berlin
X-LIC-LOCATION:Europe/Berlin
BEGIN:DAYLIGHT
DTSTART:20260329T030000
TZOFFSETFROM:+0100
TZOFFSETTO:+0200
TZNAME:CEST
END:DAYLIGHT
END:VTIMEZONE
END:VCALENDAR