BEGIN:VCALENDAR
VERSION:2.0
PRODID:-//wp-events-plugin.com//7.2.3.1//EN
BEGIN:VEVENT
UID:756@tangodeseos.de
DTSTART;TZID=Europe/Berlin;VALUE=DATE:20260731
DTEND;TZID=Europe/Berlin;VALUE=DATE:20260914
DTSTAMP:20260103T212659Z
URL:https://www.tangodeseos.de/events/sommerferien-2/
SUMMARY:Sommerferien
DESCRIPTION:Wir machen Ferien! Bis bald :)
CATEGORIES:Ferien
END:VEVENT
BEGIN:VTIMEZONE
TZID:Europe/Berlin
X-LIC-LOCATION:Europe/Berlin
BEGIN:DAYLIGHT
DTSTART:20260329T030000
TZOFFSETFROM:+0100
TZOFFSETTO:+0200
TZNAME:CEST
END:DAYLIGHT
END:VTIMEZONE
END:VCALENDAR