BEGIN:VCALENDAR
VERSION:2.0
PRODID:-//wp-events-plugin.com//7.2.3.1//EN
BEGIN:VEVENT
UID:788@tangodeseos.de
DTSTART;TZID=Europe/Berlin:20260430T200000
DTEND;TZID=Europe/Berlin:20260501T010000
DTSTAMP:20260419T172037Z
URL:https://www.tangodeseos.de/events/tanz-in-den-mai/
SUMMARY:Tanz in den Mai & HDTM Welcome-Party
DESCRIPTION:Liebe Tanguer@s\,\nwir laden euch herzlich zum Tanz in den Mai 
 &amp\; zur Welcome-Milonga des HDTM - Heidelberg Tangomarathon ein! Unser 
 DJ an diesem besonderen Abend wird Vincent Van't Laar aus den Niederlanden
  sein.\nFreut euch auf eine fantastische Tangonacht in einem besonderen Sa
 al\, köstliche argentinische Empanadas von Maria und bio/regional/faire G
 etränke an der Bar.Unser großartiges Helfer*innen-Team sorgt dafür\, da
 ss es euch an nichts fehlt. Yeah!Wir können es kaum erwarten\, mit euch z
 u tanzen und zu feiern!\n* Bürgersaal Emmertsgrund\, Forum 1\, 69126 Heid
 elberg\n* 30. April\, 20.00 - 1.00h\n* Eintritt frei - wir freuen uns übe
 r eine Spende\nHerzlich willkommen &amp\; Bienvenid@s\nIna\, Marian\, Agat
 ha &amp\; Stephie\nwww.heidelbergtangomarathon.de
ATTACH;FMTTYPE=image/jpeg:https://www.tangodeseos.de/wp-content/uploads/20
 26/04/Tanz-in-den-Mai-2026.jpg
CATEGORIES:Milonga
LOCATION:Bürgersaal Emmertsgrund\, Forum 1\, Heidelberg-Emmertsgrund\, 691
 26\, Deutschland
X-APPLE-STRUCTURED-LOCATION;VALUE=URI;X-ADDRESS=Forum 1\, Heidelberg-Emmert
 sgrund\, 69126\, Deutschland;X-APPLE-RADIUS=100;X-TITLE=Bürgersaal Emmert
 sgrund:geo:0,0
END:VEVENT
BEGIN:VTIMEZONE
TZID:Europe/Berlin
X-LIC-LOCATION:Europe/Berlin
BEGIN:DAYLIGHT
DTSTART:20260329T030000
TZOFFSETFROM:+0100
TZOFFSETTO:+0200
TZNAME:CEST
END:DAYLIGHT
END:VTIMEZONE
END:VCALENDAR