BEGIN:VCALENDAR
VERSION:2.0
PRODID:-//wp-events-plugin.com//7.2.3.1//EN
BEGIN:VEVENT
UID:787@tangodeseos.de
DTSTART;TZID=Europe/Berlin:20260509T140000
DTEND;TZID=Europe/Berlin:20260510T170000
DTSTAMP:20260325T121707Z
URL:https://www.tangodeseos.de/events/workshop-wochenende-fuer-anfaengerin
 nen-mai/
SUMMARY:Workshop-Wochenende für Anfänger*innen
DESCRIPTION:Herzlich willkommen &amp\; Bienvenid@s bei Tangodeseos!\nDu kan
 nst Dich hier alleine oder am Besten gleich mit Partner*in für den Wochen
 end-Workshop für Anfänger*innen anmelden.\n \nDas Workshop-Wochenende f
 indet am 09. und 10. Mai 2026 statt. \n\nKursdauer sind jeweils 3 Stunden 
 mit 30 Minuten Pause in der Mitte.\n\n\n----------------------------------
 --------------------------------\nSamstag\, 09.05. &amp\; Sonntag\, 10.05.
 26\nOrt: Yoga-Studio\, Landhausstraße 17\, 69115 Heidelberg\nZeit: 14 Uhr
  bis 17 Uhr\n\n-----------------------------------------------------------
 -------\nKosten pro Person:\n\n\nKurs: 90\,- / 60\,- € erm. für das Woc
 henende.\n\nJetzt Kurs buchen\n\n\nWir freuen uns auf Euch!\nliebe Grüße
 \nIna &amp\; Marian\n\n\n\n\n\n\n\n\n\n
ATTACH;FMTTYPE=image/jpeg:https://www.tangodeseos.de/wp-content/uploads/20
 26/03/Poster-Kurse-April-2026-Anfaenger.jpg
CATEGORIES:Workshop
LOCATION:Yoga-Studio in der Weststadt\, Landhausstraße 17\, Heidelberg\, 6
 9115\, Deutschland
X-APPLE-STRUCTURED-LOCATION;VALUE=URI;X-ADDRESS=Landhausstraße 17\, Heidel
 berg\, 69115\, Deutschland;X-APPLE-RADIUS=100;X-TITLE=Yoga-Studio in der W
 eststadt:geo:0,0
END:VEVENT
BEGIN:VTIMEZONE
TZID:Europe/Berlin
X-LIC-LOCATION:Europe/Berlin
BEGIN:DAYLIGHT
DTSTART:20260329T030000
TZOFFSETFROM:+0100
TZOFFSETTO:+0200
TZNAME:CEST
END:DAYLIGHT
END:VTIMEZONE
END:VCALENDAR